BEGIN:VCALENDAR
VERSION:2.0
PRODID:-//ox.ac.uk//NONSGML oxford.event//EN
X-WR-TIMEZONE:Europe/London
BEGIN:VTIMEZONE
TZID:Europe/London
X-LIC-LOCATION:Europe/London
BEGIN:DAYLIGHT
DTSTART;VALUE=DATE-TIME:19700329T010000
RRULE:FREQ=YEARLY;BYDAY=-1SU;BYMONTH=3
TZNAME:BST
TZOFFSETFROM:+0000
TZOFFSETTO:+0100
END:DAYLIGHT
BEGIN:STANDARD
DTSTART;VALUE=DATE-TIME:19701025T020000
RRULE:FREQ=YEARLY;BYDAY=-1SU;BYMONTH=10
TZNAME:GMT
TZOFFSETFROM:+0100
TZOFFSETTO:+0000
END:STANDARD
END:VTIMEZONE
BEGIN:VEVENT
SUMMARY:Diagnostic Evidence Workshops 2026
DTSTART;TZID=Europe/London;VALUE=DATE-TIME:20260608T093000
DTEND;TZID=Europe/London;VALUE=DATE-TIME:20260610T170000
DTSTAMP;VALUE=DATE-TIME:20260420T065217Z
UID:5c2fde7ac99f413ca6968aefe017f299
CATEGORIES:teaching
CREATED;VALUE=DATE-TIME:20260323T130711Z
DESCRIPTION:A three-day workshop aimed at clinicians\, researchers and pre
 dominantly small to medium enterprises (SMEs) in the diagnostics sector.
LAST-MODIFIED;VALUE=DATE-TIME:20260419T135344Z
LOCATION:Worcester College\,\nWalton Street\,\nOxford\,\nOX1 2HB
END:VEVENT
END:VCALENDAR
